BEGIN:VCALENDAR
PRODID:-//AT Content Types//AT Event//EN
VERSION:2.0
METHOD:PUBLISH
BEGIN:VEVENT
DTSTAMP:20260421T140849Z
CREATED:20161123T110031Z
UID:ATEvent-c1a4ea8217cddf491b2874f7fbaec1e1
LAST-MODIFIED:20170125T113934Z
SUMMARY:Public Meeting
DTSTART:20170112T160000Z
DTEND:20170112T180000Z
DESCRIPTION:Homerton Library\nHomerton High Street \nE9 6AS
CLASS:PUBLIC
END:VEVENT
END:VCALENDAR
