BEGIN:VCALENDAR
PRODID:-//AT Content Types//AT Event//EN
VERSION:2.0
METHOD:PUBLISH
BEGIN:VEVENT
DTSTAMP:20260421T141132Z
CREATED:20161123T110032Z
UID:ATEvent-ce086cf526d41dafb5efeea93d59e03b
LAST-MODIFIED:20170125T113933Z
SUMMARY:Public Meeting
DTSTART:20161205T110000Z
DTEND:20161205T130000Z
DESCRIPTION:St Joseph's Hospice \nMare Street\nE8 4SA
CLASS:PUBLIC
END:VEVENT
END:VCALENDAR
