BEGIN:VCALENDAR
PRODID:-//AT Content Types//AT Event//EN
VERSION:2.0
METHOD:PUBLISH
BEGIN:VEVENT
DTSTAMP:20260421T141557Z
CREATED:20170125T113935Z
UID:ATEvent-b17ba4d982d94aa51564309ab259937c
LAST-MODIFIED:20170125T113935Z
SUMMARY:Public Meeting
DTSTART:20170216T160000Z
DTEND:20170216T173000Z
DESCRIPTION:Clapton Library\nNorthwold Road\nE5 8RN
CLASS:PUBLIC
END:VEVENT
END:VCALENDAR
