BEGIN:VCALENDAR
PRODID:-//AT Content Types//AT Event//EN
VERSION:2.0
METHOD:PUBLISH
BEGIN:VEVENT
DTSTAMP:20260421T140937Z
CREATED:20161123T110031Z
UID:ATEvent-7e85682708e32b20ef94dd55c553b54d
LAST-MODIFIED:20170125T113935Z
SUMMARY:Public Meeting
DTSTART:20161216T130000Z
DTEND:20161216T150000Z
DESCRIPTION:Hackney Learning Trust \n1 Reading Lane\nE8 1GQ
CLASS:PUBLIC
END:VEVENT
END:VCALENDAR
