BEGIN:VCALENDAR
PRODID:-//AT Content Types//AT Event//EN
VERSION:2.0
METHOD:PUBLISH
BEGIN:VEVENT
DTSTAMP:20260421T203628Z
CREATED:20180914T120626Z
UID:ATEvent-b1b9f0c81e7ae501d5ed437fbb81c3a5
LAST-MODIFIED:20180921T110548Z
SUMMARY:Leaseholder and Freeholder Open Day
DTSTART:20181013T100000Z
DTEND:20181013T150000Z
DESCRIPTION:This event aims to inform Hackney's leaseholders and freeh
 olders about the services the Council and others have to offer. There 
 is also a chance to have one-to-one sessions with Officers from Leaseh
 old & Freehold Services.\n\n\nAs well as presentations energy efficien
 cy\, asset management and gas safety\, Hackney Leaseholders & Freehold
 ers will be able to access and get information on a range of other Cou
 ncil services\, and the London Fire Brigade.\n\nThere will also be fun
  games and activities for children and families!
CLASS:PUBLIC
END:VEVENT
END:VCALENDAR
