BEGIN:VCALENDAR
PRODID:-//AT Content Types//AT Event//EN
VERSION:2.0
METHOD:PUBLISH
BEGIN:VEVENT
DTSTAMP:20260422T061207Z
CREATED:20150820T093653Z
UID:ATEvent-87a2ff8826e3fb55e65affc97761fd33
LAST-MODIFIED:20150820T094047Z
SUMMARY:Consultation workshop
DTSTART:20150910T120000Z
DTEND:20150910T160000Z
DESCRIPTION:Haggerston Community Centre\, 8 Lovelace Street\, E8 4FF.\
 n\nResidents must register for the workshop in advance by email at eve
 nts@nlwp.net or phone on 020 7974 5916.
CLASS:PUBLIC
END:VEVENT
END:VCALENDAR
