BEGIN:VCALENDAR
PRODID:-//AT Content Types//AT Event//EN
VERSION:2.0
METHOD:PUBLISH
BEGIN:VEVENT
DTSTAMP:20260422T043536Z
CREATED:20150820T093653Z
UID:ATEvent-4f547df72f8d2f42783d1f9812d62019
LAST-MODIFIED:20150820T094047Z
SUMMARY:Drop in session
DTSTART:20150910T170000Z
DTEND:20150910T190000Z
DESCRIPTION:Haggerston Community Centre\, 8 Lovelace Street\, E8 4FF.\
 n\nNo registration required
CLASS:PUBLIC
END:VEVENT
END:VCALENDAR
