BEGIN:VCALENDAR
PRODID:-//AT Content Types//AT Event//EN
VERSION:2.0
METHOD:PUBLISH
BEGIN:VEVENT
DTSTAMP:20260422T043648Z
CREATED:20150820T093852Z
UID:ATEvent-7e12a852dd451586fe9d571d53da25ba
LAST-MODIFIED:20150820T094047Z
SUMMARY:Theydon Road event
DTSTART:20150901T183000Z
DTEND:20150901T203000Z
DESCRIPTION:An event to discuss the plans for the Theydon Road area.\n
 \nSouthwold School\, Detmold Road\, E5 9NL
CLASS:PUBLIC
END:VEVENT
END:VCALENDAR
