BEGIN:VCALENDAR
PRODID:-//AT Content Types//AT Event//EN
VERSION:2.0
METHOD:PUBLISH
BEGIN:VEVENT
DTSTAMP:20260424T012149Z
CREATED:20230908T171639Z
UID:ATEvent-09cde26d31cf40f1b30025352ba7e57f
LAST-MODIFIED:20230919T140631Z
SUMMARY:Hackney Central is changing event
DTSTART:20230923T100000Z
DTEND:20230923T130000Z
DESCRIPTION:Join us in Hackney Town Hall Square to meet the team at ou
 r Hackney Central pop-up
CLASS:PUBLIC
END:VEVENT
END:VCALENDAR
