BEGIN:VCALENDAR
PRODID:-//AT Content Types//AT Event//EN
VERSION:2.0
METHOD:PUBLISH
BEGIN:VEVENT
DTSTAMP:20260421T102414Z
CREATED:20220526T120911Z
UID:ATEvent-1e5b38edae534c5db3643d526b09e9d1
LAST-MODIFIED:20220606T133919Z
SUMMARY:Drop-in event
DTSTART:20220620T093000Z
DTEND:20220620T110000Z
DESCRIPTION:Drop in to meet your neighbours and council officers. Lear
 n more about the proposal for a community garden\, share your views\, 
 and fill in a consultation survey.
CLASS:PUBLIC
END:VEVENT
END:VCALENDAR
