BEGIN:VCALENDAR
PRODID:-//AT Content Types//AT Event//EN
VERSION:2.0
METHOD:PUBLISH
BEGIN:VEVENT
DTSTAMP:20260420T030059Z
CREATED:20211107T212956Z
UID:ATEvent-e3d3489ad27240da8b2e789fc7704479
LAST-MODIFIED:20211110T225846Z
SUMMARY:Drop-in to share your views
DTSTART:20211129T100000Z
DTEND:20211129T120000Z
DESCRIPTION:You'll find us outdoors on Datchler Estate\, where we will
  welcome your ideas and inspiration about developing a community garde
 n. You will have the opportunity to complete a consultation survey on 
 paper and ask any questions you may have. Drinks and snacks will be pr
 ovided.
CLASS:PUBLIC
END:VEVENT
END:VCALENDAR
