BEGIN:VCALENDAR
PRODID:-//AT Content Types//AT Event//EN
VERSION:2.0
METHOD:PUBLISH
BEGIN:VEVENT
DTSTAMP:20260420T030457Z
CREATED:20211107T212956Z
UID:ATEvent-e2d073542af24401a9da785310a765a0
LAST-MODIFIED:20211110T225846Z
SUMMARY:Getting involved on Datchler Estate
DTSTART:20211207T183000Z
DTEND:20211207T193000Z
DESCRIPTION:Join us at Webb Estate Community Hall\, 46A Clapton Common
 \, E5 9BA and share your views about creating a community garden for D
 atchler Estate on the unused space behind Feldman Close. Learn about h
 ow you can form a group on your estate to help residents communicate w
 ith the council\, and create activities for your community. Drinks and
  snacks will be provided.
CLASS:PUBLIC
END:VEVENT
END:VCALENDAR
