BEGIN:VCALENDAR
PRODID:-//AT Content Types//AT Event//EN
VERSION:2.0
METHOD:PUBLISH
BEGIN:VEVENT
DTSTAMP:20260424T043804Z
CREATED:20230105T225134Z
UID:ATEvent-d80ad3de07d441c7bfd64cf2ecce86d8
LAST-MODIFIED:20230511T151534Z
SUMMARY:Drop-in event
DTSTART:20230520T080000Z
DTEND:20230520T100000Z
DESCRIPTION:Drop in to meet the Mapledene TRA. Learn more about the pr
 oposal for a community garden and share your views. Meet in the walled
  garden space.
CLASS:PUBLIC
END:VEVENT
END:VCALENDAR
