BEGIN:VCALENDAR
PRODID:-//AT Content Types//AT Event//EN
VERSION:2.0
METHOD:PUBLISH
BEGIN:VEVENT
DTSTAMP:20260421T203719Z
CREATED:20180903T164012Z
UID:ATEvent-ee7c65a36efdd1e16fbaff32d44a4193
LAST-MODIFIED:20220930T094510Z
SUMMARY:Drop-in Surgery (Queensbridge and De Beauvoir Neighbourhood Office)
DTSTART:20180910T110000Z
DTEND:20180910T130000Z
DESCRIPTION:If you would like to discuss the proposals feel free to at
 tend our drop-in surgery.
CLASS:PUBLIC
END:VEVENT
END:VCALENDAR
