BEGIN:VCALENDAR
PRODID:-//AT Content Types//AT Event//EN
VERSION:2.0
METHOD:PUBLISH
BEGIN:VEVENT
DTSTAMP:20260421T220218Z
CREATED:20180903T164011Z
UID:ATEvent-bfcc3a9dfa9732d9a95bf9c9f72aa5bc
LAST-MODIFIED:20220930T094510Z
SUMMARY:Drop-in Surgery (TRA meeting room)
DTSTART:20180910T160000Z
DTEND:20180910T180000Z
DESCRIPTION:If you would like to discuss the proposals feel free to at
 tend our drop-in surgery.
CLASS:PUBLIC
END:VEVENT
END:VCALENDAR
