BEGIN:VCALENDAR
PRODID:-//AT Content Types//AT Event//EN
VERSION:2.0
METHOD:PUBLISH
BEGIN:VEVENT
DTSTAMP:20260422T022437Z
CREATED:20230308T134601Z
UID:ATEvent-4db3a705b80243d39b400dcac6bf026a
LAST-MODIFIED:20230309T201049Z
SUMMARY:Joseph Court Community Day
DTSTART:20230404T103000Z
DTEND:20230404T143000Z
DESCRIPTION:Please come and join us for a day of fun at Joseph Court E
 state. The Resident Participation and Inclusion Team will be there to 
 discuss ways in which you can get involved with your TRA.
CLASS:PUBLIC
END:VEVENT
END:VCALENDAR
