BEGIN:VCALENDAR
PRODID:-//AT Content Types//AT Event//EN
VERSION:2.0
METHOD:PUBLISH
BEGIN:VEVENT
DTSTAMP:20260423T182201Z
CREATED:20251118T122922Z
UID:ATEvent-2737c9fd17c84c9bbfd96fba984b4018
LAST-MODIFIED:20251120T163951Z
SUMMARY:Hackney Downs Pavilion Café Drop in
DTSTART:20251209T150000Z
DTEND:20251209T180000Z
DESCRIPTION:Want to learn more? Attend one of our two drop-in sessions
  at the Hackney Downs Pavilion.
CLASS:PUBLIC
END:VEVENT
END:VCALENDAR
