BEGIN:VCALENDAR
PRODID:-//AT Content Types//AT Event//EN
VERSION:2.0
METHOD:PUBLISH
BEGIN:VEVENT
DTSTAMP:20260423T181822Z
CREATED:20251118T122812Z
UID:ATEvent-6a7c95c50615415e915652f23214000d
LAST-MODIFIED:20251120T163951Z
SUMMARY:Hackney Downs Pavilion Café Drop in
DTSTART:20251206T090000Z
DTEND:20251206T120000Z
DESCRIPTION:Want to learn more? Attend one of our two drop-in sessions
  at the Hackney Downs Pavilion.
CLASS:PUBLIC
END:VEVENT
END:VCALENDAR
