BEGIN:VCALENDAR
PRODID:-//AT Content Types//AT Event//EN
VERSION:2.0
METHOD:PUBLISH
BEGIN:VEVENT
DTSTAMP:20260422T010502Z
CREATED:20161028T111913Z
UID:ATEvent-75628a7bd3cafe0f3de9283b58eb4b8b
LAST-MODIFIED:20161028T112737Z
SUMMARY:Drop-in event
DTSTART:20161126T110000Z
DTEND:20161126T150000Z
DESCRIPTION:Have your say on the proposals for gym equipment at Millfi
 elds at our drop-in event beside the play area at Millfields (on Casim
 ir Road).
CLASS:PUBLIC
END:VEVENT
END:VCALENDAR
