BEGIN:VCALENDAR
PRODID:-//AT Content Types//AT Event//EN
VERSION:2.0
METHOD:PUBLISH
BEGIN:VEVENT
DTSTAMP:20260425T181721Z
CREATED:20141121T110740Z
UID:ATEvent-b77227982c7300bc697da8f0bbef8c9b
LAST-MODIFIED:20220920T150554Z
SUMMARY:Springfield Park consultation\, talks and tours
DTSTART:20141207T130000Z
DTEND:20141207T160000Z
DESCRIPTION:Join us to share your ideas about how Springfield Park mig
 ht benefit from a restoration project.\nTake a tour\, find out about t
 he buildings\, history\, geology and ecology of the park. Lots of acti
 vities for all ages including discussion workshops\, face\npainting\, 
 drawing\, and a bike surgery. Tours start at 2pm and 3pm.\nRefreshment
 s available.
CLASS:PUBLIC
END:VEVENT
END:VCALENDAR
