BEGIN:VCALENDAR
PRODID:-//AT Content Types//AT Event//EN
VERSION:2.0
METHOD:PUBLISH
BEGIN:VEVENT
DTSTAMP:20260421T232118Z
CREATED:20251029T093608Z
UID:ATEvent-7c585c5297b3492c9a46510ffd324a87
LAST-MODIFIED:20251128T142825Z
SUMMARY:Clapton Library Information Drop-in
DTSTART:20251212T150000Z
DTEND:20251212T170000Z
DESCRIPTION:Join us at our drop-in  information event to find out more
  and\nask questions. We will be in Clapton Library\, Northwold Road,\n
 E5 8RA between 3pm and 5pm
CLASS:PUBLIC
END:VEVENT
END:VCALENDAR
