BEGIN:VCALENDAR
PRODID:-//AT Content Types//AT Event//EN
VERSION:2.0
METHOD:PUBLISH
BEGIN:VEVENT
DTSTAMP:20260422T005211Z
CREATED:20251029T094401Z
UID:ATEvent-a70161dc403245a1849fa00c96e9916e
LAST-MODIFIED:20251128T142825Z
SUMMARY:Online Information Drop-in
DTSTART:20251210T183000Z
DTEND:20251210T193000Z
DESCRIPTION:Join us at our online information event to find out more a
 nd\nask questions. The session will run from 6.30pm to 7.30pm. \n\nsig
 n up here: bit.ly/libraries_event
CLASS:PUBLIC
END:VEVENT
END:VCALENDAR
