BEGIN:VCALENDAR
PRODID:-//AT Content Types//AT Event//EN
VERSION:2.0
METHOD:PUBLISH
BEGIN:VEVENT
DTSTAMP:20260421T232340Z
CREATED:20251029T093341Z
UID:ATEvent-45b244d0b3fc4adc98f2d681d17d1b00
LAST-MODIFIED:20251128T142825Z
SUMMARY:Stamford Hill Library Information Drop-in
DTSTART:20251209T100000Z
DTEND:20251209T120000Z
DESCRIPTION:Join us at our drop-in  information event to find out more
  and\nask questions. We will be in Stamford Hill Library,\nPortland Av
 enue\, N16 6SB between 10am and 12pm (noon)
CLASS:PUBLIC
END:VEVENT
END:VCALENDAR
