BEGIN:VCALENDAR
PRODID:-//AT Content Types//AT Event//EN
VERSION:2.0
METHOD:PUBLISH
BEGIN:VEVENT
DTSTAMP:20260422T121901Z
CREATED:20150522T115421Z
UID:ATEvent-fa9d62da255a9ad7f87299ec68f4cea9
LAST-MODIFIED:20220927T134743Z
SUMMARY:Drop-in event - Dalston CLR James
DTSTART:20150806T110000Z
DTEND:20150806T190000Z
DESCRIPTION:Dalston C.L.R James Library\, Dalston Square\, Dalston,\nL
 ondon E8 3BQ\n\nDrop-in is from 12:00pm until 8:00pm
CLASS:PUBLIC
END:VEVENT
END:VCALENDAR
