BEGIN:VCALENDAR
PRODID:-//AT Content Types//AT Event//EN
VERSION:2.0
METHOD:PUBLISH
BEGIN:VEVENT
DTSTAMP:20260422T122446Z
CREATED:20150522T115421Z
UID:ATEvent-2c1bd7e491af77d00287f6c998c1392a
LAST-MODIFIED:20220927T134743Z
SUMMARY:Drop-in event - Stoke Newington Library
DTSTART:20150707T110000Z
DTEND:20150707T190000Z
DESCRIPTION:Stoke Newington Library\, Stoke Newingon Church Street,\nL
 ondon N16 0JS\n\nDrop-in is from 12:00pm until 8:00pm
CLASS:PUBLIC
END:VEVENT
END:VCALENDAR
