BEGIN:VCALENDAR
PRODID:-//AT Content Types//AT Event//EN
VERSION:2.0
METHOD:PUBLISH
BEGIN:VEVENT
DTSTAMP:20260422T043409Z
CREATED:20150714T134644Z
UID:ATEvent-32192cc8e19d9acf03091b5a7cd2038b
LAST-MODIFIED:20160504T160724Z
SUMMARY:PEP 2015-20 Drop in Session at Hackney Central Library
DTSTART:20150813T120000Z
DTEND:20150813T140000Z
DESCRIPTION:1 Reading Lane\, \nHackney,\nLondon\, \nE8 1DY
CLASS:PUBLIC
END:VEVENT
END:VCALENDAR
