BEGIN:VCALENDAR
PRODID:-//AT Content Types//AT Event//EN
VERSION:2.0
METHOD:PUBLISH
BEGIN:VEVENT
DTSTAMP:20260422T043924Z
CREATED:20150716T145431Z
UID:ATEvent-74977b229489c87fffad71c11a58dfe1
LAST-MODIFIED:20160504T160724Z
SUMMARY:PEP 2015-20 Drop in at Session at Stoke Newington Library
DTSTART:20150926T130000Z
DTEND:20150926T150000Z
DESCRIPTION:Stoke Newington Church Street \nLondon\nN16 0JS
CLASS:PUBLIC
END:VEVENT
END:VCALENDAR
