BEGIN:VCALENDAR
PRODID:-//AT Content Types//AT Event//EN
VERSION:2.0
METHOD:PUBLISH
BEGIN:VEVENT
DTSTAMP:20260422T043624Z
CREATED:20150716T145431Z
UID:ATEvent-927fae9406ae3da0b77b1ea6a164acd7
LAST-MODIFIED:20160504T160724Z
SUMMARY:PEP 2015-20 Drop in Hackney Central Library
DTSTART:20150919T090000Z
DTEND:20150919T110000Z
DESCRIPTION:1 Reading Lane\, \nLondon\, \nE8 1DY
CLASS:PUBLIC
END:VEVENT
END:VCALENDAR
