BEGIN:VCALENDAR
PRODID:-//AT Content Types//AT Event//EN
VERSION:2.0
METHOD:PUBLISH
BEGIN:VEVENT
DTSTAMP:20260422T043845Z
CREATED:20150716T145433Z
UID:ATEvent-483b5db559e5d48b9f7353c3d2cbedce
LAST-MODIFIED:20160504T160724Z
SUMMARY:PEP 2015-20 Drop in Session at Dalston CLR James Library
DTSTART:20150929T150000Z
DTEND:20150929T170000Z
DESCRIPTION:Dalston Lane\, \nLondon,\nE8 3BQ
CLASS:PUBLIC
END:VEVENT
END:VCALENDAR
