BEGIN:VCALENDAR
PRODID:-//AT Content Types//AT Event//EN
VERSION:2.0
METHOD:PUBLISH
BEGIN:VEVENT
DTSTAMP:20260422T043739Z
CREATED:20150716T145432Z
UID:ATEvent-85833d2de06033d77a9372c778873d74
LAST-MODIFIED:20160504T160723Z
SUMMARY:PEP 2015-20 Drop in Session at Dalston CLR James Library
DTSTART:20150814T120000Z
DTEND:20150814T140000Z
DESCRIPTION:Dalston Lane\, \nLondon,\nE8 3BQ
CLASS:PUBLIC
END:VEVENT
END:VCALENDAR
