BEGIN:VCALENDAR
PRODID:-//AT Content Types//AT Event//EN
VERSION:2.0
METHOD:PUBLISH
BEGIN:VEVENT
DTSTAMP:20260422T043624Z
CREATED:20150716T145433Z
UID:ATEvent-fa298ab070ec3dbac2624f72dad4491c
LAST-MODIFIED:20160504T160724Z
SUMMARY:PEP 2015-20 Drop in Session at Hackney Central Library
DTSTART:20150929T100000Z
DTEND:20150929T120000Z
DESCRIPTION:1 Reading Lane\, \nLondon\, \nE8 1DY
CLASS:PUBLIC
END:VEVENT
END:VCALENDAR
