BEGIN:VCALENDAR
PRODID:-//AT Content Types//AT Event//EN
VERSION:2.0
METHOD:PUBLISH
BEGIN:VEVENT
DTSTAMP:20260422T061335Z
CREATED:20150907T110105Z
UID:ATEvent-52c37b04f3dc539ff45d86d6f77a2425
LAST-MODIFIED:20160504T160724Z
SUMMARY:PEP 2015-20 Drop in Session at Hackney Service Centre
DTSTART:20150907T130000Z
DTEND:20150907T150000Z
DESCRIPTION:Hackney Service Centre\n1 Hillman Street\nLondon\nE8 1DY
CLASS:PUBLIC
END:VEVENT
END:VCALENDAR
