BEGIN:VCALENDAR
PRODID:-//AT Content Types//AT Event//EN
VERSION:2.0
METHOD:PUBLISH
BEGIN:VEVENT
DTSTAMP:20260422T043828Z
CREATED:20150716T145432Z
UID:ATEvent-8341e88b058a6526a2d7899caa274362
LAST-MODIFIED:20160504T160724Z
SUMMARY:PEP 2015-20 Drop in Session at Shoreditch Library
DTSTART:20150817T120000Z
DTEND:20150817T140000Z
DESCRIPTION:80 Hoxton Street\, \nLondon\, \nN1 6LP
CLASS:PUBLIC
END:VEVENT
END:VCALENDAR
