BEGIN:VCALENDAR
PRODID:-//AT Content Types//AT Event//EN
VERSION:2.0
METHOD:PUBLISH
BEGIN:VEVENT
DTSTAMP:20260422T043829Z
CREATED:20150716T145433Z
UID:ATEvent-db880ed12f061cbdb703f16b0c36998a
LAST-MODIFIED:20160504T160724Z
SUMMARY:PEP 2015-20 Drop in Session at Shoreditch Library
DTSTART:20150930T150000Z
DTEND:20150930T170000Z
DESCRIPTION:80 Hoxton Street\, \nLondon\, \nN1 6LP
CLASS:PUBLIC
END:VEVENT
END:VCALENDAR
