BEGIN:VCALENDAR
PRODID:-//AT Content Types//AT Event//EN
VERSION:2.0
METHOD:PUBLISH
BEGIN:VEVENT
DTSTAMP:20260422T043715Z
CREATED:20150716T145432Z
UID:ATEvent-b7ec5692bd71068dda3cd5926179f505
LAST-MODIFIED:20160504T160724Z
SUMMARY:PEP 2015-20 Drop in Session at Shoreditch Library
DTSTART:20150917T100000Z
DTEND:20150917T120000Z
DESCRIPTION:80 Hoxton Street\, \nLondon\, \nN1 6LP
CLASS:PUBLIC
END:VEVENT
END:VCALENDAR
