BEGIN:VCALENDAR
PRODID:-//AT Content Types//AT Event//EN
VERSION:2.0
METHOD:PUBLISH
BEGIN:VEVENT
DTSTAMP:20260422T061752Z
CREATED:20150716T145432Z
UID:ATEvent-d7f89f0900d3aab0e8c4196d638a5a4d
LAST-MODIFIED:20160504T160724Z
SUMMARY:PEP 2015-20 Drop in Session at Stoke Newington Library
DTSTART:20150818T120000Z
DTEND:20150818T140000Z
DESCRIPTION:Stoke Newington Church Street \nLondon\nN16 0JS
CLASS:PUBLIC
END:VEVENT
END:VCALENDAR
