BEGIN:VCALENDAR
PRODID:-//AT Content Types//AT Event//EN
VERSION:2.0
METHOD:PUBLISH
BEGIN:VEVENT
DTSTAMP:20260422T043739Z
CREATED:20150716T145431Z
UID:ATEvent-38cee7e62c59579dde60df25d02056b0
LAST-MODIFIED:20160504T160724Z
SUMMARY:PEP 2015-20 Drop in Session at Stoke Newington Library
DTSTART:20150918T100000Z
DTEND:20150918T120000Z
DESCRIPTION:Stoke Newington Church Street \nLondon\nN16 0JS
CLASS:PUBLIC
END:VEVENT
END:VCALENDAR
