BEGIN:VCALENDAR
PRODID:-//AT Content Types//AT Event//EN
VERSION:2.0
METHOD:PUBLISH
BEGIN:VEVENT
DTSTAMP:20260422T043716Z
CREATED:20150716T145430Z
UID:ATEvent-772843bc19d331fcbcf08a690e2b2a9c
LAST-MODIFIED:20160504T160724Z
SUMMARY:PEP 2015-20 Drop in Session at Dalston CLR James Library
DTSTART:20150919T130000Z
DTEND:20150919T150000Z
DESCRIPTION:Dalston Lane\, \nLondon,\nE8 3BQ
CLASS:PUBLIC
END:VEVENT
END:VCALENDAR
