BEGIN:VCALENDAR
PRODID:-//AT Content Types//AT Event//EN
VERSION:2.0
METHOD:PUBLISH
BEGIN:VEVENT
DTSTAMP:20260420T030437Z
CREATED:20210917T123631Z
UID:ATEvent-07355944d12b4e6e9b060382102e12a5
LAST-MODIFIED:20210927T103820Z
SUMMARY:Virtual drop in session 1
DTSTART:20211026T130000Z
DTEND:20211126T150000Z
DESCRIPTION:This session will be held over Zoom where we will be prese
 nting the consultation proposals and answering questions from particip
 ants.
CLASS:PUBLIC
END:VEVENT
END:VCALENDAR
