BEGIN:VCALENDAR
PRODID:-//AT Content Types//AT Event//EN
VERSION:2.0
METHOD:PUBLISH
BEGIN:VEVENT
DTSTAMP:20260420T030059Z
CREATED:20210917T123631Z
UID:ATEvent-a64fe05d6fc94e02b462ca0c19ae5ada
LAST-MODIFIED:20210927T103820Z
SUMMARY:Call in session 1
DTSTART:20211026T150000Z
DTEND:20211026T160000Z
DESCRIPTION:If you would like to discuss the consultation proposals an
 d you are not able to take part in the online sessions\, feel free to 
 call us on 020 8356 1279/8282/8251 during the specified time.
CLASS:PUBLIC
END:VEVENT
END:VCALENDAR
