BEGIN:VCALENDAR
PRODID:-//AT Content Types//AT Event//EN
VERSION:2.0
METHOD:PUBLISH
BEGIN:VEVENT
DTSTAMP:20260420T030746Z
CREATED:20210917T123631Z
UID:ATEvent-a6fe7a1ed40f4911b2f5afb0fd43ae3d
LAST-MODIFIED:20210927T103820Z
SUMMARY:Virtual drop in session 2
DTSTART:20211028T160000Z
DTEND:20211028T170000Z
DESCRIPTION:This session will be held over Zoom where we will be prese
 nting the consultation proposals and answering questions from particip
 ants.
CLASS:PUBLIC
END:VEVENT
END:VCALENDAR
