BEGIN:VCALENDAR
PRODID:-//AT Content Types//AT Event//EN
VERSION:2.0
METHOD:PUBLISH
BEGIN:VEVENT
DTSTAMP:20260423T234456Z
CREATED:20240630T151524Z
UID:ATEvent-ed7c7868cca1426ba2cf4071d81bb75d
LAST-MODIFIED:20240925T135830Z
SUMMARY:Exhibition Drop-in Session (Diddy's)
DTSTART:20240716T170000Z
DTEND:20240716T190000Z
DESCRIPTION:Engage with the team and explore the SPD through exhibitio
 n boards at Diddy's. \n\nDiddy’s\, 69 Mare St\, London E8 4RG.
CLASS:PUBLIC
END:VEVENT
END:VCALENDAR
