BEGIN:VCALENDAR
PRODID:-//AT Content Types//AT Event//EN
VERSION:2.0
METHOD:PUBLISH
BEGIN:VEVENT
DTSTAMP:20260423T234228Z
CREATED:20240630T151524Z
UID:ATEvent-fd1a7d59c17c407e86aaa38b2057f37f
LAST-MODIFIED:20240925T135830Z
SUMMARY:Exhibition Drop-in Session (Hackney Library)
DTSTART:20240713T090000Z
DTEND:20240713T110000Z
DESCRIPTION:Drop by Hackney Central Library to speak with the team and
  view exhibition boards detailing the SPD. \n\nHackney Central Library
 \, 1 Reading Ln\, London E8 1GQ.
CLASS:PUBLIC
END:VEVENT
END:VCALENDAR
