BEGIN:VCALENDAR
PRODID:-//AT Content Types//AT Event//EN
VERSION:2.0
METHOD:PUBLISH
BEGIN:VEVENT
DTSTAMP:20260423T234125Z
CREATED:20240630T151524Z
UID:ATEvent-f48582fbbf35471c91293be7e7939c97
LAST-MODIFIED:20240925T135830Z
SUMMARY:Exhibition Drop-in Session (he Five Points Brewery & Courtyard)
DTSTART:20240903T170000Z
DTEND:20240903T190000Z
DESCRIPTION:An opportunity to discuss the SPD with the team while view
 ing the exhibition boards at The Five Points Brewery & Courtyard. \n\n
 The Five Points Brewery & Courtyard\, 61 Mare St\, London E8 4RG
CLASS:PUBLIC
END:VEVENT
END:VCALENDAR
