BEGIN:VCALENDAR
PRODID:-//AT Content Types//AT Event//EN
VERSION:2.0
METHOD:PUBLISH
BEGIN:VEVENT
DTSTAMP:20260423T234456Z
CREATED:20240630T151523Z
UID:ATEvent-a579790270d7414f8c2a785d84552124
LAST-MODIFIED:20240925T135830Z
SUMMARY:Online Presentation
DTSTART:20240902T170000Z
DTEND:20240902T180000Z
DESCRIPTION:Attend an online presentation followed by a Q&A session wi
 th the project team to learn about and discuss the SPD from the comfor
 t of your home.
CLASS:PUBLIC
END:VEVENT
END:VCALENDAR
