BEGIN:VCALENDAR
PRODID:-//AT Content Types//AT Event//EN
VERSION:2.0
METHOD:PUBLISH
BEGIN:VEVENT
DTSTAMP:20260423T233826Z
CREATED:20240630T151524Z
UID:ATEvent-900459ab2b6648d1b2be8ab439bf8770
LAST-MODIFIED:20240925T135830Z
SUMMARY:Workshops (with exhibition boards)
DTSTART:20240717T170000Z
DTEND:20240717T190000Z
DESCRIPTION:Participate in a workshop at St Joseph’s Hospice to prov
 ide more in-depth feedback on the draft SPD while interacting with the
  project team and viewing exhibition boards.
CLASS:PUBLIC
END:VEVENT
END:VCALENDAR
