BEGIN:VCALENDAR
PRODID:-//AT Content Types//AT Event//EN
VERSION:2.0
METHOD:PUBLISH
BEGIN:VEVENT
DTSTAMP:20260423T234257Z
CREATED:20240630T151524Z
UID:ATEvent-e85757abf2644c51a52dcde4f6509150
LAST-MODIFIED:20240925T135830Z
SUMMARY:Workshops (with exhibition boards)
DTSTART:20240720T090000Z
DTEND:20240720T110000Z
DESCRIPTION:Join a workshop at Grace Montessori\, Regent Estate Commun
 ity Hall to share detailed thoughts on the draft SPD\, work closely wi
 th the project team\, and review exhibition boards.
CLASS:PUBLIC
END:VEVENT
END:VCALENDAR
