BEGIN:VCALENDAR
PRODID:-//AT Content Types//AT Event//EN
VERSION:2.0
METHOD:PUBLISH
BEGIN:VEVENT
DTSTAMP:20260422T025839Z
CREATED:20161013T130858Z
UID:ATEvent-6b71f0b264c7db1405fc72f227442247
LAST-MODIFIED:20161019T155537Z
SUMMARY:Drop-in Session - Hackney Central Library
DTSTART:20161101T100000Z
DTEND:20161101T130000Z
DESCRIPTION:If you would like to talk to a Planning Officer about the 
 Draft Hackney Central and Surrounds Masterplan\, come along to our dro
 p-in session. You'll also be able to collect a copy of the Draft Maste
 rplan summary document and questionnaire.
CLASS:PUBLIC
END:VEVENT
END:VCALENDAR
