BEGIN:VCALENDAR
PRODID:-//AT Content Types//AT Event//EN
VERSION:2.0
METHOD:PUBLISH
BEGIN:VEVENT
DTSTAMP:20260422T025651Z
CREATED:20161013T130858Z
UID:ATEvent-28a955036f590cb40b2f82b3a198168d
LAST-MODIFIED:20161019T155537Z
SUMMARY:Drop-in Session - Junction of Mare Street and Westgate Street (Outside Space Studios)
DTSTART:20161110T150000Z
DTEND:20161110T180000Z
DESCRIPTION:If you would like to talk to a Planning Officer about the 
 Draft Hackney Central and Surrounds Masterplan\, come along to our dro
 p-in session. You'll also be able to collect a copy of the Draft Maste
 rplan summary document and questionnaire.
CLASS:PUBLIC
END:VEVENT
END:VCALENDAR
