BEGIN:VCALENDAR
PRODID:-//AT Content Types//AT Event//EN
VERSION:2.0
METHOD:PUBLISH
BEGIN:VEVENT
DTSTAMP:20260422T030013Z
CREATED:20161013T121648Z
UID:ATEvent-3e2811051d430f3a9c5be73eff5f5b2c
LAST-MODIFIED:20161019T155537Z
SUMMARY:Drop-in Session - Bottom of the Narrow Way(Opposite Marks  & Spencers)
DTSTART:20161020T130000Z
DTEND:20161020T160000Z
DESCRIPTION:If you would like to talk to a Planning Officer about the 
 Draft Hackney Central and Surrounds Masterplan\, come along to our dro
 p-in session. You'll also be able to collect a copy of the Draft Maste
 rplan summary document and questionnaire.
CLASS:PUBLIC
END:VEVENT
END:VCALENDAR
